BEGIN:VCALENDAR
PRODID:-//bearne10222//EN
VERSION:2.0
BEGIN:VEVENT
SUMMARY:Bearnes Hampton &amp; Littlewood: Silver, Watches  &amp; Jewellery
PRIORITY:0
CLASS:PUBLIC
DTSTART:20260518T083000Z
DTEND:20260519T225900Z
DESCRIPTION:Sale Ref:&nbsp; SJ14
Auction Starts&nbsp; Monday and Tueday at 9.30am GMT
Monday -&nbsp; Silver Lots 1 -378
Tuesday&nbsp; -&nbsp; Watches &amp; Jewellery Lots 401 - 867
X-ALT-DESC;FMTTYPE=text/html:<p>Sale Ref:&nbsp; SJ14</p><p><strong>Auction Starts&nbsp; Monday and Tueday at 9.30am GMT</strong></p><p>Monday -&nbsp; Silver Lots 1 -378</p><p>Tuesday&nbsp; -&nbsp; Watches &amp; Jewellery Lots 401 - 867</p>
LOCATION:St. Edmund&#39;s Court, Okehampton Street, Exeter, EX4 1DU, United Kingdom
END:VEVENT
END:VCALENDAR