BEGIN:VCALENDAR
PRODID:-//bearne10223//EN
VERSION:2.0
BEGIN:VEVENT
SUMMARY:Bearnes Hampton &amp; Littlewood: Residual Collection from a Remarkable Devonshire &amp; London Estate
PRIORITY:0
CLASS:PUBLIC
DTSTART:20260520T083000Z
DTEND:20260520T225900Z
DESCRIPTION:Sale Ref : SS15
Auction Starts at 9.30am&nbsp; GMT
Residual Collection from a Remarkable Devonshire &amp; London Estate - Lots 1 - 868
X-ALT-DESC;FMTTYPE=text/html:<p>Sale Ref : SS15</p><p><strong>Auction Starts at 9.30am&nbsp; GMT</strong></p><p>Residual Collection from a Remarkable Devonshire &amp; London Estate - Lots 1 - 868</p>
LOCATION:St. Edmund&#39;s Court, Okehampton Street, Exeter, EX4 1DU, United Kingdom
END:VEVENT
END:VCALENDAR